BEGIN:VCALENDAR
VERSION:2.0
PRODID:Homelink Realty Open for Inspection - Prime Position 2-Bed
 Apartment with Unbeatable Convenience
BEGIN:VTIMEZONE
TZID:Australia/Melbourne
BEGIN:STANDARD
DTSTART:20260423T100000
TZOFFSETTO:+1000
TZNAME:GMT+10
END:STANDARD
END:VTIMEZONE
BEGIN:VEVENT
UID:69e647018f5e4
DTSTART;TZID=Australia/Melbourne:20260423T100000
SEQUENCE:0
TRANSP:OPAQUE
DTEND;TZID=Australia/Melbourne:20260423T103000
LOCATION:4/20-22 Mary Street LIDCOMBE NSW
SUMMARY:Homelink Realty Open for Inspection - 4/20-22 Mary Street LIDCOMBE
 NSW
CLASS:PUBLIC
DESCRIPTION:Open for Inspection: 4/20-22 Mary Street LIDCOMBE NSW Thursday
 23rd Apr 10:00am - 10:30am Click the link for full listing information:
 https://www.homelinkrealty.com.au/sale/nsw/parramatta/lidcombe/residential/apartment/8639811
DTSTAMP:20260420T153217
END:VEVENT
END:VCALENDAR